BEGIN:VCALENDAR
VERSION:2.0
PRODID:-//Tukios.com/
BEGIN:VEVENT
UID:321f1280-81e2-4a25-9863-a7e5eac6a509@www.tezakfuneralhome.com
DTSTAMP:20260426T003126Z
DTSTART:20260429T140000Z
DTEND:20260429T150000Z
SUMMARY:Celebration of Life
DESCRIPTION:
URL:https://www.tezakfuneralhome.com/obituaries/genevieve-gev-klainsek
LOCATION: 1211 Plainfield Rd  Joliet IL 60435
GEO:41.5460935;-88.1119449
END:VEVENT
END:VCALENDAR