BEGIN:VCALENDAR
VERSION:2.0
PRODID:-//Tukios.com/
BEGIN:VEVENT
UID:699acd9f-0401-4c17-8552-5b0842170ef7@www.tezakfuneralhome.com
DTSTAMP:20260426T002916Z
DTSTART:20260429T153000Z
DTEND:20260429T163000Z
SUMMARY:Mass of Christian Burial
DESCRIPTION:
URL:https://www.tezakfuneralhome.com/obituaries/genevieve-gev-klainsek
LOCATION: 416 North Chicago Street  Joliet IL 60432
GEO:41.5320329;-88.0813944
END:VEVENT
END:VCALENDAR