BEGIN:VCALENDAR
VERSION:2.0
PRODID:-//Tukios.com/
BEGIN:VEVENT
UID:3c21133b-abe8-47ab-bc2e-ad9c79b31efc@www.tezakfuneralhome.com
DTSTAMP:20260426T003030Z
DTSTART:20260429T164500Z
DTEND:20260429T171500Z
SUMMARY:Graveside Service
DESCRIPTION:
URL:https://www.tezakfuneralhome.com/obituaries/genevieve-gev-klainsek
LOCATION: 1500 North Raynor Avenue  Joliet IL 60435
GEO:41.5501723;-88.1010837
END:VEVENT
END:VCALENDAR