BEGIN:VCALENDAR
VERSION:2.0
PRODID:-//Tukios.com/
BEGIN:VEVENT
UID:8c4cd6b2-0d1e-4c21-8356-d422b3ccb684@www.tezakfuneralhome.com
DTSTAMP:20260423T002053Z
DTSTART:20260426T190000Z
DTEND:20260426T230000Z
SUMMARY:Visitation
DESCRIPTION:
URL:https://www.tezakfuneralhome.com/obituaries/michael-thompson
LOCATION:Tezak Funeral Home 1211 Plainfield Road  Joliet IL 60435
GEO:41.5460407;-88.1119747
END:VEVENT
END:VCALENDAR