BEGIN:VCALENDAR
VERSION:2.0
PRODID:-//Tukios.com/
BEGIN:VEVENT
UID:82a6ea19-c223-4806-969b-2fc83a17967d@www.tezakfuneralhome.com
DTSTAMP:20260423T002033Z
DTSTART:20260426T223000Z
DTEND:20260426T233000Z
SUMMARY:Memorial Service
DESCRIPTION:
URL:https://www.tezakfuneralhome.com/obituaries/michael-thompson
LOCATION:Tezak Funeral Home 1211 Plainfield Road  Joliet IL 60435
GEO:41.5460407;-88.1119747
END:VEVENT
END:VCALENDAR