BEGIN:VCALENDAR
VERSION:2.0
PRODID:-//Tukios.com/
BEGIN:VEVENT
UID:57ea1762-e29b-4676-ae69-a465dc228800@www.tezakfuneralhome.com
DTSTAMP:20260422T210913Z
DTSTART:20260424T220000Z
DTEND:20260425T010000Z
SUMMARY:Visitation
DESCRIPTION:
URL:https://www.tezakfuneralhome.com/obituaries/shirley-imrie
LOCATION:Tezak Funeral Home 1211 Plainfield Road  Joliet IL 60435
GEO:41.5460407;-88.1119747
END:VEVENT
END:VCALENDAR