BEGIN:VCALENDAR
VERSION:2.0
PRODID:-//Tukios.com/
BEGIN:VEVENT
UID:e106e30c-d752-4b0d-a472-a45fdfd8a9af@www.tezakfuneralhome.com
DTSTAMP:20260422T210940Z
DTSTART:20260425T150000Z
DTEND:20260425T160000Z
SUMMARY:Mass
DESCRIPTION:
URL:https://www.tezakfuneralhome.com/obituaries/shirley-imrie
LOCATION:St. Mary Nativity Catholic Church 706 N Broadway St  Joliet IL 
	60435
GEO:41.5364297;-88.0852371
END:VEVENT
END:VCALENDAR