BEGIN:VCALENDAR
VERSION:2.0
PRODID:-//Tukios.com/
BEGIN:VEVENT
UID:c1737ae3-f37d-4109-b07e-33adc823273c@www.tezakfuneralhome.com
DTSTAMP:20260422T211051Z
DTSTART:20260425
SUMMARY:Interment
DESCRIPTION:
URL:https://www.tezakfuneralhome.com/obituaries/shirley-imrie
LOCATION: 23060 West Jefferson Street  Joliet IL 60431
GEO:41.5247211;-88.1771945
END:VEVENT
END:VCALENDAR